BEGIN:VCALENDAR
VERSION:2.0
PRODID:-//Freudlab - ECPv6.15.12.2//NONSGML v1.0//EN
CALSCALE:GREGORIAN
METHOD:PUBLISH
X-ORIGINAL-URL:https://freudlab.it
X-WR-CALDESC:Eventi per Freudlab
REFRESH-INTERVAL;VALUE=DURATION:PT1H
X-Robots-Tag:noindex
X-PUBLISHED-TTL:PT1H
BEGIN:VTIMEZONE
TZID:UTC
BEGIN:STANDARD
TZOFFSETFROM:+0000
TZOFFSETTO:+0000
TZNAME:UTC
DTSTART:20230101T000000
END:STANDARD
END:VTIMEZONE
BEGIN:VEVENT
DTSTART;TZID=UTC:20241108T190000
DTEND;TZID=UTC:20241108T203000
DTSTAMP:20260423T082848
CREATED:20241022T184342Z
LAST-MODIFIED:20241022T184342Z
UID:3471-1731092400-1731097800@freudlab.it
SUMMARY:Seminario Scarano e Bertoloni L’atto analitico
DESCRIPTION:Ore 19. Laboratorio freudiano. Piazza Aspromonte\, 13 Milano. \nSeminario Scarano e Bertoloni L’atto analitico.\nPrimo incontro a cura di Paolo Scarano “Considerazioni attorno le prime tre lezioni del seminario XV”
URL:https://freudlab.it/evento/seminario-scarano-e-bertoloni-latto-analitico/
LOCATION:Sede Laboratorio Freudiano\, Piazza Aspromonte 13\, Milano\, 20131\, Italia
CATEGORIES:Seminari
ATTACH;FMTTYPE=image/jpeg:https://freudlab.it/wp-content/uploads/2024/10/acte-psychanalytique.jpg
END:VEVENT
END:VCALENDAR