BEGIN:VCALENDAR
VERSION:2.0
PRODID:-//Freudlab - ECPv6.15.12.2//NONSGML v1.0//EN
CALSCALE:GREGORIAN
METHOD:PUBLISH
X-ORIGINAL-URL:https://freudlab.it
X-WR-CALDESC:Eventi per Freudlab
REFRESH-INTERVAL;VALUE=DURATION:PT1H
X-Robots-Tag:noindex
X-PUBLISHED-TTL:PT1H
BEGIN:VTIMEZONE
TZID:UTC
BEGIN:STANDARD
TZOFFSETFROM:+0000
TZOFFSETTO:+0000
TZNAME:UTC
DTSTART:20220101T000000
END:STANDARD
END:VTIMEZONE
BEGIN:VTIMEZONE
TZID:Europe/Rome
BEGIN:DAYLIGHT
TZOFFSETFROM:+0100
TZOFFSETTO:+0200
TZNAME:CEST
DTSTART:20220327T010000
END:DAYLIGHT
BEGIN:STANDARD
TZOFFSETFROM:+0200
TZOFFSETTO:+0100
TZNAME:CET
DTSTART:20221030T010000
END:STANDARD
BEGIN:DAYLIGHT
TZOFFSETFROM:+0100
TZOFFSETTO:+0200
TZNAME:CEST
DTSTART:20230326T010000
END:DAYLIGHT
BEGIN:STANDARD
TZOFFSETFROM:+0200
TZOFFSETTO:+0100
TZNAME:CET
DTSTART:20231029T010000
END:STANDARD
BEGIN:DAYLIGHT
TZOFFSETFROM:+0100
TZOFFSETTO:+0200
TZNAME:CEST
DTSTART:20240331T010000
END:DAYLIGHT
BEGIN:STANDARD
TZOFFSETFROM:+0200
TZOFFSETTO:+0100
TZNAME:CET
DTSTART:20241027T010000
END:STANDARD
BEGIN:DAYLIGHT
TZOFFSETFROM:+0100
TZOFFSETTO:+0200
TZNAME:CEST
DTSTART:20250330T010000
END:DAYLIGHT
BEGIN:STANDARD
TZOFFSETFROM:+0200
TZOFFSETTO:+0100
TZNAME:CET
DTSTART:20251026T010000
END:STANDARD
END:VTIMEZONE
BEGIN:VEVENT
DTSTART;TZID=UTC:20240509T210000
DTEND;TZID=UTC:20240509T223000
DTSTAMP:20260422T084502
CREATED:20230919T135059Z
LAST-MODIFIED:20230919T154641Z
UID:3393-1715288400-1715293800@freudlab.it
SUMMARY:Il seminario del giovedì a Torino
DESCRIPTION:Il discorso dell’analista \nnella direzione della cura a partire dai quattro discorsi formalizzati da Lacan\nSeminario del giovedì a Torino alle 21\ndi Fabrizio Gambini e Renata Miletto\n12 ottobre\, 9 novembre\, 14 dicembre 2023.\n11 gennaio\, 8 febbraio\, 14 marzo\, 11 aprile\, 9 maggio 2024. \nFabrizio Gambini. Psichiatra. Psicoanalista (Torino). Presidente Associazione Lacaniana Internazionale – Torino. Membro (AMA) dell’Associazione Lacaniana Internazionale (ALI). Vive e lavora a Torino\, dove ha diretto fino al 2016 il Servizio Psichiatrico di Diagnosi e Cura dell’Ospedale Mauriziano “Umberto I”.\nAutore di numerose pubblicazioni fra cui: Gambini\, F. (2015). Paranoie. Tra psichiatria e psicoanalisi: saperci fare con la psicosi. Franco Angeli; Gambini\, F. (2011). L’ora del falso sentire. Psicoanalisi e disturbi dell’umore. Franco Angeli; Gambini\, F. (2018). Dodici luoghi lacaniani della psicoanalisi. Franco Angeli; Gambini\, F. (2006). Freud e Lacan in psichiatria.Raffaello Cortina Editore; Gambini\, F. & Magnano\, G. (2023). Il nome e il numero. Dialogo fra uno psicoanalista e un fisico matematico. Paginaotto. \nRenata Miletto. Piscologo\, Psicoterapeuta e Psicoanalista. Associazione Lacaniana Internazionale – Torino \n\n\nA Torino\, settimanalmente e in aggiunta all’appuntamento mensile segnalato in calendario\, si compie in piccoli gruppi (2/3 persone) la lettura integrale del testo del seminario Il rovescio della psicanalisi.
URL:https://freudlab.it/evento/il-seminario-del-giovedi-a-torino/
LOCATION:Associazione lacaniana internazionale di Torino\, Corso Vittorio Emanuele II\, 172\, Torino\, Italia
CATEGORIES:casi clinici,Seminari
ATTACH;FMTTYPE=image/png:https://freudlab.it/wp-content/uploads/2023/09/quattro_discorsi-lacan.png
END:VEVENT
BEGIN:VEVENT
DTSTART;TZID=UTC:20240411T210000
DTEND;TZID=UTC:20240411T230000
DTSTAMP:20260422T084502
CREATED:20230919T140706Z
LAST-MODIFIED:20230919T154954Z
UID:3397-1712869200-1712876400@freudlab.it
SUMMARY:Il seminario del giovedì a Torino
DESCRIPTION:Il discorso dell’analista \nnella direzione della cura a partire dai quattro discorsi formalizzati da Lacan\nSeminario del giovedì a Torino alle 21\ndi Fabrizio Gambini e Renata Miletto\n12 ottobre\, 9 novembre\, 14 dicembre 2023.\n11 gennaio\, 8 febbraio\, 14 marzo\, 11 aprile\, 9 maggio 2024. \nFabrizio Gambini. Psichiatra. Psicoanalista (Torino). Presidente Associazione Lacaniana Internazionale – Torino. Membro (AMA) dell’Associazione Lacaniana Internazionale (ALI). Vive e lavora a Torino\, dove ha diretto fino al 2016 il Servizio Psichiatrico di Diagnosi e Cura dell’Ospedale Mauriziano “Umberto I”.\nAutore di numerose pubblicazioni fra cui: Gambini\, F. (2015). Paranoie. Tra psichiatria e psicoanalisi: saperci fare con la psicosi. Franco Angeli; Gambini\, F. (2011). L’ora del falso sentire. Psicoanalisi e disturbi dell’umore. Franco Angeli; Gambini\, F. (2018). Dodici luoghi lacaniani della psicoanalisi. Franco Angeli; Gambini\, F. (2006). Freud e Lacan in psichiatria.Raffaello Cortina Editore; Gambini\, F. & Magnano\, G. (2023). Il nome e il numero. Dialogo fra uno psicoanalista e un fisico matematico. Paginaotto. \nRenata Miletto. Piscologo\, Psicoterapeuta e Psicoanalista. Associazione Lacaniana Internazionale – Torino \n  \n\n\nA Torino\, settimanalmente e in aggiunta all’appuntamento mensile segnalato in calendario\, si compie in piccoli gruppi (2/3 persone) la lettura integrale del testo del seminario Il rovescio della psicanalisi.
URL:https://freudlab.it/evento/il-seminario-del-giovedi-a-torino-3/
LOCATION:Associazione lacaniana internazionale di Torino\, Corso Vittorio Emanuele II\, 172\, Torino\, Italia
CATEGORIES:casi clinici,Seminari
ATTACH;FMTTYPE=image/png:https://freudlab.it/wp-content/uploads/2023/09/quattro_discorsi-lacan.png
END:VEVENT
BEGIN:VEVENT
DTSTART;TZID=Europe/Rome:20240314T210000
DTEND;TZID=Europe/Rome:20240314T230000
DTSTAMP:20260422T084502
CREATED:20230919T052242Z
LAST-MODIFIED:20230919T155042Z
UID:3378-1710450000-1710457200@freudlab.it
SUMMARY:Seminario del giovedì a Torino
DESCRIPTION:Il discorso dell’analista \nnella direzione della cura a partire dai quattro discorsi formalizzati da Lacan\nSeminario del giovedì a Torino alle 21\ndi Fabrizio Gambini e Renata Miletto\n12 ottobre\, 9 novembre\, 14 dicembre 2023.\n11 gennaio\, 8 febbraio\, 14 marzo\, 11 aprile\, 9 maggio 2024. \nFabrizio Gambini. Psichiatra. Psicoanalista (Torino). Presidente Associazione Lacaniana Internazionale – Torino. Membro (AMA) dell’Associazione Lacaniana Internazionale (ALI). Vive e lavora a Torino\, dove ha diretto fino al 2016 il Servizio Psichiatrico di Diagnosi e Cura dell’Ospedale Mauriziano “Umberto I”.\nAutore di numerose pubblicazioni fra cui: Gambini\, F. (2015). Paranoie. Tra psichiatria e psicoanalisi: saperci fare con la psicosi. Franco Angeli; Gambini\, F. (2011). L’ora del falso sentire. Psicoanalisi e disturbi dell’umore. Franco Angeli; Gambini\, F. (2018). Dodici luoghi lacaniani della psicoanalisi. Franco Angeli; Gambini\, F. (2006). Freud e Lacan in psichiatria.Raffaello Cortina Editore; Gambini\, F. & Magnano\, G. (2023). Il nome e il numero. Dialogo fra uno psicoanalista e un fisico matematico. Paginaotto. \nRenata Miletto. Piscologo\, Psicoterapeuta e Psicoanalista. Associazione Lacaniana Internazionale – Torino \n\nA Torino\, settimanalmente e in aggiunta all’appuntamento mensile segnalato in calendario\, si compie in piccoli gruppi (2/3 persone) la lettura integrale del testo del seminario Il rovescio della psicanalisi.
URL:https://freudlab.it/evento/seminario-del-giovedi-a-torino-5/
LOCATION:Associazione lacaniana internazionale di Torino\, Corso Vittorio Emanuele II\, 172\, Torino\, Italia
CATEGORIES:Seminari
ATTACH;FMTTYPE=image/png:https://freudlab.it/wp-content/uploads/2023/09/quattro_discorsi-lacan.png
END:VEVENT
BEGIN:VEVENT
DTSTART;TZID=Europe/Rome:20240208T210000
DTEND;TZID=Europe/Rome:20240208T230000
DTSTAMP:20260422T084502
CREATED:20230919T135657Z
LAST-MODIFIED:20230919T155300Z
UID:3395-1707426000-1707433200@freudlab.it
SUMMARY:Il seminario del giovedì a Torino
DESCRIPTION:Il discorso dell’analista \nnella direzione della cura a partire dai quattro discorsi formalizzati da Lacan\nSeminario del giovedì a Torino alle 21\ndi Fabrizio Gambini e Renata Miletto\n12 ottobre\, 9 novembre\, 14 dicembre 2023.\n11 gennaio\, 8 febbraio\, 14 marzo\, 11 aprile\, 9 maggio 2024. \nFabrizio Gambini. Psichiatra. Psicoanalista (Torino). Presidente Associazione Lacaniana Internazionale – Torino. Membro (AMA) dell’Associazione Lacaniana Internazionale (ALI). Vive e lavora a Torino\, dove ha diretto fino al 2016 il Servizio Psichiatrico di Diagnosi e Cura dell’Ospedale Mauriziano “Umberto I”.\nAutore di numerose pubblicazioni fra cui: Gambini\, F. (2015). Paranoie. Tra psichiatria e psicoanalisi: saperci fare con la psicosi. Franco Angeli; Gambini\, F. (2011). L’ora del falso sentire. Psicoanalisi e disturbi dell’umore. Franco Angeli; Gambini\, F. (2018). Dodici luoghi lacaniani della psicoanalisi. Franco Angeli; Gambini\, F. (2006). Freud e Lacan in psichiatria.Raffaello Cortina Editore; Gambini\, F. & Magnano\, G. (2023). Il nome e il numero. Dialogo fra uno psicoanalista e un fisico matematico. Paginaotto. \nRenata Miletto. Piscologa\, Psicoterapeuta e Psicoanalista. Associazione Lacaniana Internazionale – Torino \n\nA Torino\, settimanalmente e in aggiunta all’appuntamento mensile segnalato in calendario\, si compie in piccoli gruppi (2/3 persone) la lettura integrale del testo del seminario Il rovescio della psicanalisi.
URL:https://freudlab.it/evento/il-seminario-del-giovedi-a-torino-2/
LOCATION:Associazione lacaniana internazionale di Torino\, Corso Vittorio Emanuele II\, 172\, Torino\, Italia
CATEGORIES:casi clinici,Seminari
ATTACH;FMTTYPE=image/png:https://freudlab.it/wp-content/uploads/2023/09/quattro_discorsi-lacan.png
END:VEVENT
BEGIN:VEVENT
DTSTART;TZID=Europe/Rome:20240111T210000
DTEND;TZID=Europe/Rome:20240111T230000
DTSTAMP:20260422T084502
CREATED:20230919T050008Z
LAST-MODIFIED:20230919T155636Z
UID:3376-1705006800-1705014000@freudlab.it
SUMMARY:Seminario del giovedì a Torino
DESCRIPTION:Il discorso dell’analista \nnella direzione della cura a partire dai quattro discorsi formalizzati da Lacan\nSeminario del giovedì a Torino alle 21\ndi Fabrizio Gambini e Renata Miletto\n12 ottobre\, 9 novembre\, 14 dicembre 2023.\n11 gennaio\, 8 febbraio\, 14 marzo\, 11 aprile\, 9 maggio 2024. \nFabrizio Gambini. Psichiatra. Psicoanalista (Torino). Presidente Associazione Lacaniana Internazionale – Torino. Membro (AMA) dell’Associazione Lacaniana Internazionale (ALI). Vive e lavora a Torino\, dove ha diretto fino al 2016 il Servizio Psichiatrico di Diagnosi e Cura dell’Ospedale Mauriziano “Umberto I”.\nAutore di numerose pubblicazioni fra cui: Gambini\, F. (2015). Paranoie. Tra psichiatria e psicoanalisi: saperci fare con la psicosi. Franco Angeli; Gambini\, F. (2011). L’ora del falso sentire. Psicoanalisi e disturbi dell’umore. Franco Angeli; Gambini\, F. (2018). Dodici luoghi lacaniani della psicoanalisi. Franco Angeli; Gambini\, F. (2006). Freud e Lacan in psichiatria.Raffaello Cortina Editore; Gambini\, F. & Magnano\, G. (2023). Il nome e il numero. Dialogo fra uno psicoanalista e un fisico matematico. Paginaotto. \nRenata Miletto. Piscologa\, Psicoterapeuta e Psicoanalista. Associazione Lacaniana Internazionale – Torino \n\nA Torino\, settimanalmente e in aggiunta all’appuntamento mensile segnalato in calendario\, si compie in piccoli gruppi (2/3 persone) la lettura integrale del testo del seminario Il rovescio della psicanalisi.
URL:https://freudlab.it/evento/seminario-del-giovedi-a-torino-4/
LOCATION:Associazione lacaniana internazionale di Torino\, Corso Vittorio Emanuele II\, 172\, Torino\, Italia
CATEGORIES:casi clinici,Seminari
ATTACH;FMTTYPE=image/png:https://freudlab.it/wp-content/uploads/2023/09/quattro_discorsi-lacan.png
END:VEVENT
BEGIN:VEVENT
DTSTART;TZID=UTC:20231214T210000
DTEND;TZID=UTC:20231214T230000
DTSTAMP:20260422T084502
CREATED:20230919T045656Z
LAST-MODIFIED:20230919T155758Z
UID:3374-1702587600-1702594800@freudlab.it
SUMMARY:Seminario del giovedì a Torino
DESCRIPTION:Il discorso dell’analista \nnella direzione della cura a partire dai quattro discorsi formalizzati da Lacan\nSeminario del giovedì a Torino alle 21\ndi Fabrizio Gambini e Renata Miletto\n12 ottobre\, 9 novembre\, 14 dicembre 2023.\n11 gennaio\, 8 febbraio\, 14 marzo\, 11 aprile\, 9 maggio 2024. \nFabrizio Gambini. Psichiatra. Psicoanalista (Torino). Presidente Associazione Lacaniana Internazionale – Torino. Membro (AMA) dell’Associazione Lacaniana Internazionale (ALI). Vive e lavora a Torino\, dove ha diretto fino al 2016 il Servizio Psichiatrico di Diagnosi e Cura dell’Ospedale Mauriziano “Umberto I”.\nAutore di numerose pubblicazioni fra cui: Gambini\, F. (2015). Paranoie. Tra psichiatria e psicoanalisi: saperci fare con la psicosi. Franco Angeli; Gambini\, F. (2011). L’ora del falso sentire. Psicoanalisi e disturbi dell’umore. Franco Angeli; Gambini\, F. (2018). Dodici luoghi lacaniani della psicoanalisi. Franco Angeli; Gambini\, F. (2006). Freud e Lacan in psichiatria.Raffaello Cortina Editore; Gambini\, F. & Magnano\, G. (2023). Il nome e il numero. Dialogo fra uno psicoanalista e un fisico matematico. Paginaotto. \nRenata Miletto. Piscologa\, Psicoterapeuta e Psicoanalista. Associazione Lacaniana Internazionale – Torino \n\nA Torino\, settimanalmente e in aggiunta all’appuntamento mensile segnalato in calendario\, si compie in piccoli gruppi (2/3 persone) la lettura integrale del testo del seminario Il rovescio della psicanalisi.
URL:https://freudlab.it/evento/seminario-del-giovedi-a-torino-3/
LOCATION:Associazione lacaniana internazionale di Torino\, Corso Vittorio Emanuele II\, 172\, Torino\, Italia
CATEGORIES:Seminari
ATTACH;FMTTYPE=image/png:https://freudlab.it/wp-content/uploads/2023/09/quattro_discorsi-lacan.png
END:VEVENT
BEGIN:VEVENT
DTSTART;TZID=Europe/Rome:20231012T210000
DTEND;TZID=Europe/Rome:20231012T233000
DTSTAMP:20260422T084503
CREATED:20230918T223713Z
LAST-MODIFIED:20230919T155917Z
UID:3367-1697144400-1697153400@freudlab.it
SUMMARY:Seminario del giovedì a Torino
DESCRIPTION:Il discorso dell’analista \nnella direzione della cura a partire dai quattro discorsi formalizzati da Lacan\nSeminario del giovedì a Torino alle 21\ndi Fabrizio Gambini e Renata Miletto\n12 ottobre\, 9 novembre\, 14 dicembre 2023.\n11 gennaio\, 8 febbraio\, 14 marzo\, 11 aprile\, 9 maggio 2024. \nFabrizio Gambini. Psichiatra. Psicoanalista (Torino). Presidente Associazione Lacaniana Internazionale – Torino. Membro (AMA) dell’Associazione Lacaniana Internazionale (ALI). Vive e lavora a Torino\, dove ha diretto fino al 2016 il Servizio Psichiatrico di Diagnosi e Cura dell’Ospedale Mauriziano “Umberto I”.\nAutore di numerose pubblicazioni fra cui: Gambini\, F. (2015). Paranoie. Tra psichiatria e psicoanalisi: saperci fare con la psicosi. Franco Angeli; Gambini\, F. (2011). L’ora del falso sentire. Psicoanalisi e disturbi dell’umore. Franco Angeli; Gambini\, F. (2018). Dodici luoghi lacaniani della psicoanalisi. Franco Angeli; Gambini\, F. (2006). Freud e Lacan in psichiatria.Raffaello Cortina Editore; Gambini\, F. & Magnano\, G. (2023). Il nome e il numero. Dialogo fra uno psicoanalista e un fisico matematico. Paginaotto. \nRenata Miletto. Piscologa\, Psicoterapeuta e Psicoanalista. Associazione Lacaniana Internazionale – Torino \n\nA Torino\, settimanalmente e in aggiunta all’appuntamento mensile segnalato in calendario\, si compie in piccoli gruppi (2/3 persone) la lettura integrale del testo del seminario Il rovescio della psicanalisi.
URL:https://freudlab.it/evento/seminario-del-giovedi-a-torino/
LOCATION:Associazione lacaniana internazionale di Torino\, Corso Vittorio Emanuele II\, 172\, Torino\, Italia
CATEGORIES:casi clinici,Seminari
ATTACH;FMTTYPE=image/png:https://freudlab.it/wp-content/uploads/2023/09/quattro_discorsi-lacan.png
END:VEVENT
END:VCALENDAR